BEGIN:VCALENDAR
VERSION:2.0
PRODID:-//Sabre//Sabre VObject 4.5.8//EN
CALSCALE:GREGORIAN
BEGIN:VEVENT
UID:sabre-vobject-f3f64b96-87ae-49a2-afc8-538f807db0ca
DTSTAMP:20260424T114654Z
SUMMARY:Easter Brunch & Fest
DESCRIPTION:SOLD OUT\n
X-ALT-DESC:FMTTYPE=text/html:<!DOCTYPE HTML PUBLIC "-//W3C//DTD HTML 3.2//E
 N"><HTML><p><strong>SOLD OUT</strong></p>\n</HTML>
CREATED;TZID=America/New_York:20230327T141404
URL;VALUE=URI:https://hamilton.armymwr.com/calendar/event
DTSTART;TZID=America/New_York:20230409T110000
DTEND;TZID=America/New_York:20230409T150000
SEQUENCE:0
END:VEVENT
END:VCALENDAR
