BEGIN:VCALENDAR
VERSION:2.0
PRODID:-//Sabre//Sabre VObject 4.5.8//EN
CALSCALE:GREGORIAN
BEGIN:VEVENT
UID:sabre-vobject-1719891d-6cee-4b23-8c87-14d51f087f70
DTSTAMP:20260421T220827Z
SUMMARY:Tree Lighting & Holiday Market Spectacular
DESCRIPTION:
X-ALT-DESC:FMTTYPE=text/html:<!DOCTYPE HTML PUBLIC "-//W3C//DTD HTML 3.2//E
 N"><HTML></HTML>
CREATED;TZID=America/New_York:20221208T183733
URL;VALUE=URI:https://hamilton.armymwr.com/calendar/event
DTSTART;TZID=America/New_York:20221209T160000
DTEND;TZID=America/New_York:20221209T200000
SEQUENCE:0
END:VEVENT
END:VCALENDAR
