BEGIN:VCALENDAR
VERSION:2.0
PRODID:-//Sabre//Sabre VObject 4.5.8//EN
CALSCALE:GREGORIAN
BEGIN:VEVENT
UID:sabre-vobject-c24d5a0b-9845-421d-a62f-b3320d365536
DTSTAMP:20260420T084344Z
SUMMARY:New Year's Eve Celebration
DESCRIPTION:
X-ALT-DESC:FMTTYPE=text/html:<!DOCTYPE HTML PUBLIC "-//W3C//DTD HTML 3.2//E
 N"><HTML></HTML>
CREATED;TZID=America/New_York:20181206T112323
URL;VALUE=URI:https://hamilton.armymwr.com/calendar/event
DTSTART;TZID=America/New_York:20181231T200000
DTEND;TZID=America/New_York:20190101T010000
SEQUENCE:0
END:VEVENT
END:VCALENDAR
