BEGIN:VCALENDAR
VERSION:2.0
PRODID:-//Sabre//Sabre VObject 4.5.8//EN
CALSCALE:GREGORIAN
BEGIN:VEVENT
UID:sabre-vobject-7aeb2884-2758-434a-b372-1058d9aa67c4
DTSTAMP:20260421T051844Z
SUMMARY:Groove Frequencies Jazz Live Show
DESCRIPTION:
X-ALT-DESC:FMTTYPE=text/html:<!DOCTYPE HTML PUBLIC "-//W3C//DTD HTML 3.2//E
 N"><HTML></HTML>
CREATED;TZID=America/New_York:20181106T131515
URL;VALUE=URI:https://hamilton.armymwr.com/calendar/event
DTSTART;TZID=America/New_York:20181130T190000
DTEND;TZID=America/New_York:20181130T223000
SEQUENCE:0
END:VEVENT
END:VCALENDAR
