BEGIN:VCALENDAR
VERSION:2.0
PRODID:-//Sabre//Sabre VObject 4.5.8//EN
CALSCALE:GREGORIAN
BEGIN:VEVENT
UID:sabre-vobject-8c97f2bb-f936-4889-be50-77830ab24732
DTSTAMP:20260421T220750Z
SUMMARY:Hands-On Filmmaking Workshop
DESCRIPTION:
X-ALT-DESC:FMTTYPE=text/html:<!DOCTYPE HTML PUBLIC "-//W3C//DTD HTML 3.2//E
 N"><HTML></HTML>
CREATED;TZID=America/New_York:20181016T141004
URL;VALUE=URI:https://hamilton.armymwr.com/calendar/event
DTSTART;TZID=America/New_York:20181027T110000
DTEND;TZID=America/New_York:20181027T150000
SEQUENCE:0
END:VEVENT
END:VCALENDAR
