BEGIN:VCALENDAR
VERSION:2.0
PRODID:-//Sabre//Sabre VObject 4.5.8//EN
CALSCALE:GREGORIAN
BEGIN:VEVENT
UID:sabre-vobject-84f01537-4bfd-49d2-b529-029e1aded59b
DTSTAMP:20260421T121511Z
SUMMARY:Kids Quiet Halloween Party
DESCRIPTION:Online Registration Closed\n
X-ALT-DESC:FMTTYPE=text/html:<!DOCTYPE HTML PUBLIC "-//W3C//DTD HTML 3.2//E
 N"><HTML><p>Online Registration Closed</p>\n</HTML>
CREATED;TZID=America/New_York:20181024T155006
URL;VALUE=URI:https://hamilton.armymwr.com/calendar/event
DTSTART;TZID=America/New_York:20181026T173000
DTEND;TZID=America/New_York:20181026T210000
SEQUENCE:0
END:VEVENT
END:VCALENDAR
