BEGIN:VCALENDAR
VERSION:2.0
PRODID:-//Sabre//Sabre VObject 4.5.8//EN
CALSCALE:GREGORIAN
BEGIN:VEVENT
UID:sabre-vobject-2c8e37c2-5035-4d6f-bd41-2af4a46c563b
DTSTAMP:20260424T144938Z
SUMMARY:Women's Equality Day Observance
DESCRIPTION:
X-ALT-DESC:FMTTYPE=text/html:<!DOCTYPE HTML PUBLIC "-//W3C//DTD HTML 3.2//E
 N"><HTML></HTML>
CREATED;TZID=America/New_York:20180718T144442
URL;VALUE=URI:https://hamilton.armymwr.com/calendar/event
DTSTART;TZID=America/New_York:20180809T110000
DTEND;TZID=America/New_York:20180809T120000
SEQUENCE:0
END:VEVENT
END:VCALENDAR
