BEGIN:VCALENDAR
VERSION:2.0
PRODID:-//Sabre//Sabre VObject 4.5.8//EN
CALSCALE:GREGORIAN
BEGIN:VEVENT
UID:sabre-vobject-4ee84be2-3a62-4d1d-9173-9490ce8ee8d7
DTSTAMP:20260425T235048Z
SUMMARY:Independence Day Celebration 2018
DESCRIPTION:
X-ALT-DESC:FMTTYPE=text/html:<!DOCTYPE HTML PUBLIC "-//W3C//DTD HTML 3.2//E
 N"><HTML></HTML>
CREATED;TZID=America/New_York:20180514T124814
URL;VALUE=URI:https://hamilton.armymwr.com/calendar/event
DTSTART;TZID=America/New_York:20180630T163000
DTEND;TZID=America/New_York:20180630T220000
SEQUENCE:0
END:VEVENT
END:VCALENDAR
